BEGIN:VCALENDAR
VERSION:2.0
PRODID:-//TYPO3/NONSGML Calendarize//EN
BEGIN:VEVENT
UID:calendarize-unterwegs-mit-carl-leberecht-immermann-und-peter-wilhelm-b
 ehrends
DTSTAMP:20260424T092641Z
DTSTART:20260424T150000Z
DTEND:20260424T173000Z
SUMMARY:„Unterwegs mit Carl Leberecht Immermann und Peter Wilhelm Behren
 ds“
DESCRIPTION:Traditionell lädt das Museum Haldensleben alljährlich mit ei
 nem literarischen Salon am 24. April alle Interessierten zur Geburtstagsfe
 ier für Carl Leberecht Immermann ein. Dieses Jahr sind Prof. Dr. Tullner 
 und Museumsleiterin Judith Vater ab 17:00 Uhr unterwegs mit Immermann und 
 seinem Zeitgenossen\, dem Chronisten und Pfarrer Peter Wilhelm Behrends. I
 m Mittelpunkt der literarischen Plauderei steht die Infrastruktur des begi
 nnenden 19. Jahrhunderts. Neben Ansichten aus dem 1826 erschienenen 2. Tei
 l der Neuhaldenslebischen Kreis-Chronik werden Verkehrs- und Kommunikation
 swege sowie die politischen Verhältnisse als Grundlage aller infrastruktu
 rellen Mittel beleuchtet.\n\nDie Veranstaltung ist jedem Interessierten fr
 ei zugänglich. Diskussionsbeiträge sind willkommen!\n\n \n\nIm nächsten
  Jahr\, 2027\, soll Immermann als Übersetzer vorgestellt und der Bedeutun
 g von Übersetzungen in ihrer Zeit nachgegangen werden. Hierzu sind alle L
 iteraturfreunde bereits heute bei der Vorbereitung eingeladen!\n\nAls Walt
 er Scotts historischer Roman „Ivanhoe“ 1820 erschien\, ahnte wohl noch
  niemand\, dass dem Autor nicht nur ein enormer Bestseller gelang\, der zu
 gleich die Gattung des Geschichtsromans begründete\, sondern dass mit die
 sem Buch auch ein Mythos der englischen Nation geschaffen wurde. Immermann
  übersetzte Scotts Roman relativ zeitnah 1826.\n\nGemeinsam soll die Bede
 utung des Ritterromans und Rittertums im Allgemeinen und im 19. Jahrhunder
 t erläutert\, Walter Scott vorgestellt sowie Immermanns Übersetzungsarbe
 it beleuchtet werden. Was macht diesen Roman bis heute so spannend für ei
 ne große Leserschaft? Warum hat diese Geschichte bis heute gesellschaftli
 che Relevanz? Welche Bedeutung hat der historische Roman im Allgemeinen fü
 r die Herausbildung eines deutschen Nationalmythos im 19. und 20. Jahrhund
 ert? Diesen und vielen anderen Fragen soll 2027 nachgegangen oder aber sch
 lichtweg mit viel Freude gemeinsam der Roman “Ivanhoe“ gelesen werden.
 \n\nWenn Ihr Interesse geweckt sein sollte\, nehmen Sie am diesjährigen L
 iterarischen Salon teil oder melden Sie sich einfach im Museum Haldenslebe
 n\, um Teil der Vorbereitungen für das nächste Jahr rund um den Ritter I
 vanhoe zu werden. Sie sind herzlich willkommen!\n
X-ALT-DESC;FMTTYPE=text/html:Traditionell lädt das Museum Haldensleben al
 ljährlich mit einem literarischen Salon am 24. April alle Interessierten 
 zur Geburtstagsfeier für Carl Leberecht Immermann ein. Dieses Jahr sind P
 rof. Dr. Tullner und Museumsleiterin Judith Vater ab 17:00 Uhr unterwegs m
 it Immermann und seinem Zeitgenossen\, dem Chronisten und Pfarrer Peter Wi
 lhelm Behrends. Im Mittelpunkt der literarischen Plauderei steht die Infra
 struktur des beginnenden 19. Jahrhunderts. Neben Ansichten aus dem 1826 er
 schienenen 2. Teil der Neuhaldenslebischen Kreis-Chronik werden Verkehrs- 
 und Kommunikationswege sowie die politischen Verhältnisse als Grundlage a
 ller infrastrukturellen Mittel beleuchtet.\n\nDie Veranstaltung ist jedem 
 Interessierten frei zugänglich. Diskussionsbeiträge sind willkommen!\n\n
  \n\nIm nächsten Jahr\, 2027\, soll Immermann als Übersetzer vorgestellt
  und der Bedeutung von Übersetzungen in ihrer Zeit nachgegangen werden. H
 ierzu sind alle Literaturfreunde bereits heute bei der Vorbereitung eingel
 aden!\n\nAls Walter Scotts historischer Roman „Ivanhoe“ 1820 erschien\
 , ahnte wohl noch niemand\, dass dem Autor nicht nur ein enormer Bestselle
 r gelang\, der zugleich die Gattung des Geschichtsromans begründete\, son
 dern dass mit diesem Buch auch ein Mythos der englischen Nation geschaffen
  wurde. Immermann übersetzte Scotts Roman relativ zeitnah 1826.\n\nGemein
 sam soll die Bedeutung des Ritterromans und Rittertums im Allgemeinen und 
 im 19. Jahrhundert erläutert\, Walter Scott vorgestellt sowie Immermanns 
 Übersetzungsarbeit beleuchtet werden. Was macht diesen Roman bis heute so
  spannend für eine große Leserschaft? Warum hat diese Geschichte bis heu
 te gesellschaftliche Relevanz? Welche Bedeutung hat der historische Roman 
 im Allgemeinen für die Herausbildung eines deutschen Nationalmythos im 19
 . und 20. Jahrhundert? Diesen und vielen anderen Fragen soll 2027 nachgega
 ngen oder aber schlichtweg mit viel Freude gemeinsam der Roman “Ivanhoe“
  gelesen werden.\n\nWenn Ihr Interesse geweckt sein sollte\, nehmen Sie am
  diesjährigen Literarischen Salon teil oder melden Sie sich einfach im Mu
 seum Haldensleben\, um Teil der Vorbereitungen für das nächste Jahr rund
  um den Ritter Ivanhoe zu werden. Sie sind herzlich willkommen!\n
LOCATION:Museum Haldensleben 
END:VEVENT
END:VCALENDAR
