BEGIN:VCALENDAR
VERSION:2.0
PRODID:-//TYPO3/NONSGML Calendarize//EN
BEGIN:VEVENT
UID:calendarize-lesecafe-im-ehfa
DTSTAMP:20260424T092649Z
DTSTART:20260519T123000Z
DTEND:20260519T150000Z
SUMMARY:Lesecafé im EHFA
DESCRIPTION:Der Ehrentag \n\nEine weitere Möglichkeiten für ein "Miteina
 nder statt Nebeneinander".\nSeien sie herzlich eigeladen bei Kaffee und Ku
 chen\, Renate Eder zu lauschen\, wenn sie  in Begleitung Ihres kleinen Vie
 rbeiners "Coco" Geschichten erzählt.\nLesungen können Brücken zwichen d
 en Altersgruppen bauen und dies wollen wir tun\, jeder und jede ist herzli
 ch willkommen!\n\n\nEintritt frei
X-ALT-DESC;FMTTYPE=text/html:Der Ehrentag \n\nEine weitere Möglichkeiten 
 für ein "Miteinander statt Nebeneinander".\nSeien sie herzlich eigeladen 
 bei Kaffee und Kuchen\, Renate Eder zu lauschen\, wenn sie  in Begleitung 
 Ihres kleinen Vierbeiners "Coco" Geschichten erzählt.\nLesungen können B
 rücken zwichen den Altersgruppen bauen und dies wollen wir tun\, jeder un
 d jede ist herzlich willkommen!\n\n\nEintritt frei
LOCATION:Mehrgenrationshaus EHFA
END:VEVENT
END:VCALENDAR
